BEGIN:VCALENDAR
VERSION:2.0
PRODID:-//O - ECPv6.9.0//NONSGML v1.0//EN
CALSCALE:GREGORIAN
METHOD:PUBLISH
X-ORIGINAL-URL:https://oliver-hunter.com
X-WR-CALDESC:Events for O
REFRESH-INTERVAL;VALUE=DURATION:PT1H
X-Robots-Tag:noindex
X-PUBLISHED-TTL:PT1H
BEGIN:VTIMEZONE
TZID:UTC
BEGIN:STANDARD
TZOFFSETFROM:+0000
TZOFFSETTO:+0000
TZNAME:UTC
DTSTART:20250101T000000
END:STANDARD
END:VTIMEZONE
BEGIN:VEVENT
DTSTART;TZID=UTC:20250419T191500
DTEND;TZID=UTC:20250419T201500
DTSTAMP:20260420T163956
CREATED:20250116T011532Z
LAST-MODIFIED:20250116T011532Z
UID:25393-1745090100-1745093700@oliver-hunter.com
SUMMARY:Melbourne International Comedy Festival Show 2025 – April 19th
DESCRIPTION:Weird. Here it is. \nOliver is 30\, extroverted\, living with a disability\, married all while winging his way through parenthood. \nJosh is 41\, an introverted Nerd\, single. His biggest worry in life is; trying to get up again after watching TV on the floor. real bad back. Real bad. \nThey met at a gig in a book shop 5 years ago. Why are these two such good friends? They don’t even know\, but we’ll find out together! \nThis show contains: Course language
URL:https://oliver-hunter.com/event/melbourne-international-comedy-festival-show-2025-april-19th/
LOCATION:Goff’s Comedy\, 215 Swan St\, Richmond\, Melbourne\, Victoria\, 10118\, Australia
CATEGORIES:Comedy,Featured,Upcoming
ATTACH;FMTTYPE=image/jpeg:https://oliver-hunter.com/wp-content/uploads/2020/04/oliveroddcouple.jpeg
ORGANIZER;CN="Ashton Porter":MAILTO:info@example.com
END:VEVENT
END:VCALENDAR